BEGIN:VCALENDAR
VERSION:2.0
PRODID:-//revitalizedelton.org//NONSGML kigkonsult.se iCalcreator 2.30.10//
CALSCALE:GREGORIAN
METHOD:PUBLISH
UID:7efcae1e-6a4f-47d5-aa8f-42ff7c58523d
X-WR-CALDESC:http://prairievilletwp-mi.org
X-WR-RELCALID:de33977813869f8d8f020e15b7c6e290
X-WR-TIMEZONE:America/New_York
BEGIN:VTIMEZONE
TZID:America/New_York
BEGIN:STANDARD
TZNAME:EST
DTSTART:20231105T020000
TZOFFSETFROM:-0400
TZOFFSETTO:-0500
RDATE:20241103T020000
END:STANDARD
BEGIN:DAYLIGHT
TZNAME:EDT
DTSTART:20230312T020000
TZOFFSETFROM:-0500
TZOFFSETTO:-0400
RDATE:20240310T020000
RDATE:20250309T020000
END:DAYLIGHT
END:VTIMEZONE
BEGIN:VEVENT
UID:1c7b4f83-4a71-4667-8aed-ea1420c989c1
DTSTAMP:20260421T205415Z
DESCRIPTION:http://prairievilletwp-mi.org
DTSTART;TZID=America/New_York:20240208T190000
DTEND;TZID=America/New_York:20240208T200000
LOCATION:10115 S Norris Rd\, Delton\, MI 49046 US
SUMMARY:Prairieville Township Planning Commission Meeting
END:VEVENT
END:VCALENDAR
