BEGIN:VCALENDAR
VERSION:2.0
PRODID:-//revitalizedelton.org//NONSGML kigkonsult.se iCalcreator 2.30.10//
CALSCALE:GREGORIAN
METHOD:PUBLISH
UID:ca72caa8-3d75-42ba-a884-2ae9ce26f008
X-WR-CALDESC:The DK Band Boosters are raising money for a trip to the Smoky
  Mountain Music Festival in Gatlinburg\, TN.
X-WR-RELCALID:869ac1bf72f922d2d35a513db932a086
X-WR-TIMEZONE:America/New_York
BEGIN:VTIMEZONE
TZID:America/New_York
BEGIN:STANDARD
TZNAME:EST
DTSTART:20231105T020000
TZOFFSETFROM:-0400
TZOFFSETTO:-0500
RDATE:20241103T020000
END:STANDARD
BEGIN:DAYLIGHT
TZNAME:EDT
DTSTART:20230312T020000
TZOFFSETFROM:-0500
TZOFFSETTO:-0400
RDATE:20240310T020000
RDATE:20250309T020000
END:DAYLIGHT
END:VTIMEZONE
BEGIN:VEVENT
UID:7f7367a0-f3f1-4e74-ae46-febddb6ac521
DTSTAMP:20260421T204233Z
DESCRIPTION:The DK Band Boosters are raising money for a trip to the Smoky 
 Mountain Music Festival in Gatlinburg\, TN.
DTSTART;TZID=America/New_York:20240210T083000
DTEND;TZID=America/New_York:20240210T110000
LOCATION:5420 Mooselodge Dr\, Delton\, MI 49046 US
SUMMARY:DK Bands Breakfast Fundraiser
END:VEVENT
END:VCALENDAR
