BEGIN:VCALENDAR
VERSION:2.0
PRODID:-//revitalizedelton.org//NONSGML kigkonsult.se iCalcreator 2.30.10//
CALSCALE:GREGORIAN
METHOD:PUBLISH
UID:e68291aa-269a-4781-a7f2-5a2f1597b341
X-WR-CALDESC:The Township Parks Board meeting has been changed to 2/12 this
  month to avoid a conflict with early voting. \nhttp://prairievilletwp-mi.
 org
X-WR-RELCALID:4ea9b3172da869a74fd1d559610154f0
X-WR-TIMEZONE:America/New_York
BEGIN:VTIMEZONE
TZID:America/New_York
BEGIN:STANDARD
TZNAME:EST
DTSTART:20231105T020000
TZOFFSETFROM:-0400
TZOFFSETTO:-0500
RDATE:20241103T020000
END:STANDARD
BEGIN:DAYLIGHT
TZNAME:EDT
DTSTART:20230312T020000
TZOFFSETFROM:-0500
TZOFFSETTO:-0400
RDATE:20240310T020000
RDATE:20250309T020000
END:DAYLIGHT
END:VTIMEZONE
BEGIN:VEVENT
UID:ea16ab03-17d9-44a2-bdba-de2d06bc3215
DTSTAMP:20260421T204544Z
DESCRIPTION:The Township Parks Board meeting has been changed to 2/12 this 
 month to avoid a conflict with early voting. \nhttp://prairievilletwp-mi.o
 rg
DTSTART;TZID=America/New_York:20240212T183000
DTEND;TZID=America/New_York:20240212T193000
LOCATION:10115 S Norris Rd\, Delton\, MI 49046 US
SUMMARY:Prairieville Township Parks Board Meeting
END:VEVENT
END:VCALENDAR
