BEGIN:VCALENDAR
VERSION:2.0
PRODID:-//revitalizedelton.org//NONSGML kigkonsult.se iCalcreator 2.30.10//
CALSCALE:GREGORIAN
METHOD:PUBLISH
UID:27a2dfa6-8356-4b8a-8abe-adc4361220f4
X-WR-CALDESC:Join for a public meeting to express questions and concerns to
  County Commissioners and their lawyers about solar farms in and coming to
  Barry County.
X-WR-RELCALID:b488a23dc973fcc3bba294556a3efed8
X-WR-TIMEZONE:America/New_York
BEGIN:VTIMEZONE
TZID:America/New_York
BEGIN:STANDARD
TZNAME:EST
DTSTART:20231105T020000
TZOFFSETFROM:-0400
TZOFFSETTO:-0500
RDATE:20241103T020000
END:STANDARD
BEGIN:DAYLIGHT
TZNAME:EDT
DTSTART:20230312T020000
TZOFFSETFROM:-0500
TZOFFSETTO:-0400
RDATE:20240310T020000
RDATE:20250309T020000
END:DAYLIGHT
END:VTIMEZONE
BEGIN:VEVENT
UID:fa56029d-4597-447a-ad15-0c8ccc3cfb5d
DTSTAMP:20260421T204349Z
DESCRIPTION:Join for a public meeting to express questions and concerns to 
 County Commissioners and their lawyers about solar farms in and coming to 
 Barry County.
DTSTART;TZID=America/New_York:20240213T180000
DTEND;TZID=America/New_York:20240213T200000
LOCATION:231 S Broadway St\, Hastings\, MI 49058 US
SUMMARY:Solar Farm Public Meeting
END:VEVENT
END:VCALENDAR
