BEGIN:VCALENDAR
VERSION:2.0
PRODID:-//revitalizedelton.org//NONSGML kigkonsult.se iCalcreator 2.30.10//
CALSCALE:GREGORIAN
METHOD:PUBLISH
UID:87bb7a77-b037-4b06-9be7-895a9688f4a1
X-WR-CALDESC:The township board meeting has been changed to 2/15 for this m
 onth to avoid a conflict with early voting. \nhttp://prairievilletwp-mi.or
 g
X-WR-RELCALID:56932dc4ebc20751eebf702dee6f23af
X-WR-TIMEZONE:America/New_York
BEGIN:VTIMEZONE
TZID:America/New_York
BEGIN:STANDARD
TZNAME:EST
DTSTART:20231105T020000
TZOFFSETFROM:-0400
TZOFFSETTO:-0500
RDATE:20241103T020000
END:STANDARD
BEGIN:DAYLIGHT
TZNAME:EDT
DTSTART:20230312T020000
TZOFFSETFROM:-0500
TZOFFSETTO:-0400
RDATE:20240310T020000
RDATE:20250309T020000
END:DAYLIGHT
END:VTIMEZONE
BEGIN:VEVENT
UID:cf2a4ace-c8e2-4c7f-8c48-54ef7d4a8cf3
DTSTAMP:20260421T204516Z
DESCRIPTION:The township board meeting has been changed to 2/15 for this mo
 nth to avoid a conflict with early voting. \nhttp://prairievilletwp-mi.org
DTSTART;TZID=America/New_York:20240215T183000
DTEND;TZID=America/New_York:20240215T193000
LOCATION:10115 S Norris Rd\, Delton\, MI 49046 US
SUMMARY:Prairieville Township Board Meeting
END:VEVENT
END:VCALENDAR
