BEGIN:VCALENDAR
VERSION:2.0
PRODID:-//revitalizedelton.org//NONSGML kigkonsult.se iCalcreator 2.30.10//
CALSCALE:GREGORIAN
METHOD:PUBLISH
UID:f9c2d1cd-72ea-465b-ba41-de9f4df73b4a
X-WR-CALDESC:Delton Area Rotary Club is hosting a BINGO fundraise at the Mo
 ose Lodge to raise funds for a second pickleball court in Delton. \nThe do
 ors open at 5pm and the first game is called at 6pm. \nTickets are $20 to 
 play 10 games. Total prize money is $1\,250! \n\nFor more information: htt
 ps://www.facebook.com/DeltonMIRotary/
X-WR-RELCALID:a97c94ca6084d8ece3d61252b7a59a2b
X-WR-TIMEZONE:America/New_York
BEGIN:VTIMEZONE
TZID:America/New_York
BEGIN:STANDARD
TZNAME:EST
DTSTART:20231105T020000
TZOFFSETFROM:-0400
TZOFFSETTO:-0500
RDATE:20241103T020000
END:STANDARD
BEGIN:DAYLIGHT
TZNAME:EDT
DTSTART:20230312T020000
TZOFFSETFROM:-0500
TZOFFSETTO:-0400
RDATE:20240310T020000
RDATE:20250309T020000
END:DAYLIGHT
END:VTIMEZONE
BEGIN:VEVENT
UID:6ffcaed9-e26a-4c7b-a78d-c45bd54cfae6
DTSTAMP:20260421T204253Z
DESCRIPTION:Delton Area Rotary Club is hosting a BINGO fundraise at the Moo
 se Lodge to raise funds for a second pickleball court in Delton. \nThe doo
 rs open at 5pm and the first game is called at 6pm. \nTickets are $20 to p
 lay 10 games. Total prize money is $1\,250! \n\nFor more information: http
 s://www.facebook.com/DeltonMIRotary/
DTSTART;TZID=America/New_York:20240217T170000
DTEND;TZID=America/New_York:20240217T210000
LOCATION:5420 Moose Lodge Dr\, Delton\, MI 49046 US
SUMMARY:BINGO Fundraiser- Rotary
END:VEVENT
END:VCALENDAR
