BEGIN:VCALENDAR
VERSION:2.0
PRODID:-//revitalizedelton.org//NONSGML kigkonsult.se iCalcreator 2.30.10//
CALSCALE:GREGORIAN
METHOD:PUBLISH
UID:b7660244-3a29-4b12-8097-847a7e58f401
X-WR-CALDESC:Quick Fix Vet is offering a $40 spay/neuter clinic for Barry C
 ounty Residents. For more information or to register\, visit quickfixvet.c
 om
X-WR-RELCALID:a5bf94844850d1c2b00ab03d9da69882
X-WR-TIMEZONE:America/New_York
BEGIN:VTIMEZONE
TZID:America/New_York
BEGIN:STANDARD
TZNAME:EST
DTSTART:20231105T020000
TZOFFSETFROM:-0400
TZOFFSETTO:-0500
RDATE:20241103T020000
END:STANDARD
BEGIN:DAYLIGHT
TZNAME:EDT
DTSTART:20230312T020000
TZOFFSETFROM:-0500
TZOFFSETTO:-0400
RDATE:20240310T020000
RDATE:20250309T020000
END:DAYLIGHT
END:VTIMEZONE
BEGIN:VEVENT
UID:276436f2-f270-4e7b-8348-9c81e27b859e
DTSTAMP:20260421T204429Z
DESCRIPTION:Quick Fix Vet is offering a $40 spay/neuter clinic for Barry Co
 unty Residents. For more information or to register\, visit quickfixvet.co
 m
DTSTART;TZID=America/New_York:20240219T060000
DTEND;TZID=America/New_York:20240219T060001
LOCATION:6332 Snow Ave\, Alto\, MI 49302 US
SUMMARY:Barry County Spay/Neuter Event
END:VEVENT
END:VCALENDAR
