BEGIN:VCALENDAR
VERSION:2.0
PRODID:-//revitalizedelton.org//NONSGML kigkonsult.se iCalcreator 2.30.10//
CALSCALE:GREGORIAN
METHOD:PUBLISH
UID:82a39714-0498-45c4-836d-65dc3738c3f3
X-WR-CALDESC:School Board Meetings take place in the Elementary Library\n\n
 https://www.dkschools.org/page/board-of-education-meetings
X-WR-RELCALID:dfab9f4fddd90afcef99cefc0281dd4d
X-WR-TIMEZONE:America/New_York
BEGIN:VTIMEZONE
TZID:America/New_York
BEGIN:STANDARD
TZNAME:EST
DTSTART:20231105T020000
TZOFFSETFROM:-0400
TZOFFSETTO:-0500
RDATE:20241103T020000
END:STANDARD
BEGIN:DAYLIGHT
TZNAME:EDT
DTSTART:20230312T020000
TZOFFSETFROM:-0500
TZOFFSETTO:-0400
RDATE:20240310T020000
RDATE:20250309T020000
END:DAYLIGHT
END:VTIMEZONE
BEGIN:VEVENT
UID:bd55e2ed-12f6-4dfb-a9cf-74261fd52a2c
DTSTAMP:20260421T204441Z
DESCRIPTION:School Board Meetings take place in the Elementary Library\n\nh
 ttps://www.dkschools.org/page/board-of-education-meetings
DTSTART;TZID=America/New_York:20240220T200000
DTEND;TZID=America/New_York:20240220T210000
LOCATION:327 N Grove St\, Delton\, MI 49046 US
SUMMARY:Delton Kellogg School Board Meeting
END:VEVENT
END:VCALENDAR
