BEGIN:VCALENDAR
VERSION:2.0
PRODID:-//revitalizedelton.org//NONSGML kigkonsult.se iCalcreator 2.30.10//
CALSCALE:GREGORIAN
METHOD:PUBLISH
UID:bffbd375-418e-4fa2-817c-9aa9c21d9618
X-WR-CALDESC:Hope Township Planning Commission is holding a meeting to disc
 uss a planned unit development. For more information\, see the notice: \n
 \nhttps://www.hopetwp.com/wp-content/uploads/2024/01/Website.Notices.pdf
X-WR-RELCALID:49ae00b4ec7b4dc532255205b7f9f44c
X-WR-TIMEZONE:America/New_York
BEGIN:VTIMEZONE
TZID:America/New_York
BEGIN:STANDARD
TZNAME:EST
DTSTART:20231105T020000
TZOFFSETFROM:-0400
TZOFFSETTO:-0500
RDATE:20241103T020000
END:STANDARD
BEGIN:DAYLIGHT
TZNAME:EDT
DTSTART:20230312T020000
TZOFFSETFROM:-0500
TZOFFSETTO:-0400
RDATE:20240310T020000
RDATE:20250309T020000
END:DAYLIGHT
END:VTIMEZONE
BEGIN:VEVENT
UID:55ff22b4-7a46-4001-8f22-d24fc077b9b9
DTSTAMP:20260421T204341Z
DESCRIPTION:Hope Township Planning Commission is holding a meeting to discu
 ss a planned unit development. For more information\, see the notice: \n\n
 https://www.hopetwp.com/wp-content/uploads/2024/01/Website.Notices.pdf
DTSTART;TZID=America/New_York:20240222T183000
DTEND;TZID=America/New_York:20240222T203000
LOCATION:5463 M-43 HWY\, Hasting\, MI 49058 US
SUMMARY:Hope Township Planning Commission Public Hearing
END:VEVENT
END:VCALENDAR
