BEGIN:VCALENDAR
VERSION:2.0
PRODID:-//revitalizedelton.org//NONSGML kigkonsult.se iCalcreator 2.30.10//
CALSCALE:GREGORIAN
METHOD:PUBLISH
UID:01632fda-99d0-46ad-a097-c7dc446a3d61
X-WR-CALDESC:The Rotary Club is hosting the annual Wild Game Dinner at the 
 Faith United Methodist Church! \nCost is $15 per ticket. \nFor more inform
 ation visit: https://www.facebook.com/DeltonMIRotary/
X-WR-RELCALID:b9d5917b0c7a64a3bed304cc9e756ef5
X-WR-TIMEZONE:America/New_York
BEGIN:VTIMEZONE
TZID:America/New_York
BEGIN:STANDARD
TZNAME:EST
DTSTART:20231105T020000
TZOFFSETFROM:-0400
TZOFFSETTO:-0500
RDATE:20241103T020000
END:STANDARD
BEGIN:DAYLIGHT
TZNAME:EDT
DTSTART:20230312T020000
TZOFFSETFROM:-0500
TZOFFSETTO:-0400
RDATE:20240310T020000
RDATE:20250309T020000
END:DAYLIGHT
END:VTIMEZONE
BEGIN:VEVENT
UID:5732e036-fdb4-4539-b070-9af058868028
DTSTAMP:20260421T204253Z
DESCRIPTION:The Rotary Club is hosting the annual Wild Game Dinner at the F
 aith United Methodist Church! \nCost is $15 per ticket. \nFor more informa
 tion visit: https://www.facebook.com/DeltonMIRotary/
DTSTART;TZID=America/New_York:20240224T173000
DTEND;TZID=America/New_York:20240224T203000
LOCATION:503 S Grove St\, Delton\, MI 49046 US
SUMMARY:Wild Game Dinner- Rotary
END:VEVENT
END:VCALENDAR
