BEGIN:VCALENDAR
VERSION:2.0
PRODID:-//revitalizedelton.org//NONSGML kigkonsult.se iCalcreator 2.30.10//
CALSCALE:GREGORIAN
METHOD:PUBLISH
UID:658e1afb-a8fe-4626-b48b-670d2039c3af
X-WR-CALDESC:Quick Fix Vet is offering a $40 spay/neuter clinic for Barry C
 ounty Residents. For more information or to register\, visit quickfixvet.c
 om
X-WR-RELCALID:e6d9f43dd0d9437b1f9a9517d1e2f8a2
X-WR-TIMEZONE:America/New_York
BEGIN:VTIMEZONE
TZID:America/New_York
BEGIN:STANDARD
TZNAME:EST
DTSTART:20231105T020000
TZOFFSETFROM:-0400
TZOFFSETTO:-0500
RDATE:20241103T020000
END:STANDARD
BEGIN:DAYLIGHT
TZNAME:EDT
DTSTART:20230312T020000
TZOFFSETFROM:-0500
TZOFFSETTO:-0400
RDATE:20240310T020000
RDATE:20250309T020000
END:DAYLIGHT
END:VTIMEZONE
BEGIN:VEVENT
UID:e268ce9c-488f-41b6-89e0-2042418020b3
DTSTAMP:20260421T204429Z
DESCRIPTION:Quick Fix Vet is offering a $40 spay/neuter clinic for Barry Co
 unty Residents. For more information or to register\, visit quickfixvet.co
 m
DTSTART;TZID=America/New_York:20240226T060000
DTEND;TZID=America/New_York:20240226T060001
LOCATION:6332 Snow Ave\, Alto\, MI 49302 US
SUMMARY:Barry County Spay/Neuter Event
END:VEVENT
END:VCALENDAR
