BEGIN:VCALENDAR
VERSION:2.0
PRODID:-//revitalizedelton.org//NONSGML kigkonsult.se iCalcreator 2.30.10//
CALSCALE:GREGORIAN
METHOD:PUBLISH
UID:79a24f53-ddad-4bb6-bb61-efa0ea86253e
X-WR-CALDESC:Barry Township: 10300 M-43 HWY \nHope Township: 5463 M-43 HWY 
 \nOrangeville Township: 7350 Lindsey Rd\nPrairieville Township: 10115 S No
 rris Rd\n\nTo check what is on your local ballot visit: https://mvic.sos.s
 tate.mi.us/PublicBallot/Index\nFor early voting information: visit your lo
 cal township website \nVoter registration in MI: https://www.michigan.gov/
 sos/elections/voting/register-to-vote
X-WR-RELCALID:332546252ea65838f14bfc1df21beb32
X-WR-TIMEZONE:America/New_York
BEGIN:VTIMEZONE
TZID:America/New_York
BEGIN:STANDARD
TZNAME:EST
DTSTART:20231105T020000
TZOFFSETFROM:-0400
TZOFFSETTO:-0500
RDATE:20241103T020000
END:STANDARD
BEGIN:DAYLIGHT
TZNAME:EDT
DTSTART:20230312T020000
TZOFFSETFROM:-0500
TZOFFSETTO:-0400
RDATE:20240310T020000
RDATE:20250309T020000
END:DAYLIGHT
END:VTIMEZONE
BEGIN:VEVENT
UID:a6ba7d11-0f9b-4d9b-9de7-435ddd1cc6aa
DTSTAMP:20260421T204341Z
DESCRIPTION:Barry Township: 10300 M-43 HWY \nHope Township: 5463 M-43 HWY 
 \nOrangeville Township: 7350 Lindsey Rd\nPrairieville Township: 10115 S No
 rris Rd\n\nTo check what is on your local ballot visit: https://mvic.sos.s
 tate.mi.us/PublicBallot/Index\nFor early voting information: visit your lo
 cal township website \nVoter registration in MI: https://www.michigan.gov/
 sos/elections/voting/register-to-vote
DTSTART;TZID=America/New_York:20240227T070000
DTEND;TZID=America/New_York:20240227T200000
LOCATION:Local Township Halls
SUMMARY:Presidential Primary Election
END:VEVENT
END:VCALENDAR
