BEGIN:VCALENDAR
VERSION:2.0
PRODID:-//revitalizedelton.org//NONSGML kigkonsult.se iCalcreator 2.30.10//
CALSCALE:GREGORIAN
METHOD:PUBLISH
UID:f516dbe8-af56-4ded-a4b5-71845c6cd324
X-WR-CALDESC:NEW FREE EVENT: Barry Indoor Market \nlocal farmers & artisans
  \n\nJoin us and support over 25 local farms & artisans  \nBarry Community
  Enrichment Center \nSponsored by: Corewell Health\, Blue Zones\, and Barr
 y Community Foundation
X-WR-RELCALID:64416b8f9c3bcfadad7f2a74fd007761
X-WR-TIMEZONE:America/New_York
BEGIN:VTIMEZONE
TZID:America/New_York
BEGIN:STANDARD
TZNAME:EST
DTSTART:20231105T020000
TZOFFSETFROM:-0400
TZOFFSETTO:-0500
RDATE:20241103T020000
END:STANDARD
BEGIN:DAYLIGHT
TZNAME:EDT
DTSTART:20230312T020000
TZOFFSETFROM:-0500
TZOFFSETTO:-0400
RDATE:20240310T020000
RDATE:20250309T020000
END:DAYLIGHT
END:VTIMEZONE
BEGIN:VEVENT
UID:cf052946-727b-4468-8cc6-590bf924fc0f
DTSTAMP:20260421T185630Z
DESCRIPTION:NEW FREE EVENT: Barry Indoor Market \nlocal farmers & artisans 
 \n\nJoin us and support over 25 local farms & artisans  \nBarry Community 
 Enrichment Center \nSponsored by: Corewell Health\, Blue Zones\, and Barry
  Community Foundation
DTSTART;TZID=America/New_York:20240309T100000
DTEND;TZID=America/New_York:20240309T140000
LOCATION:231 S Broadway\, Hastings\, MI 49058 US
SUMMARY:Barry Indoor Market
END:VEVENT
END:VCALENDAR
