BEGIN:VCALENDAR
VERSION:2.0
PRODID:-//revitalizedelton.org//NONSGML kigkonsult.se iCalcreator 2.30.10//
CALSCALE:GREGORIAN
METHOD:PUBLISH
UID:fa4e5c9d-9430-4daf-b6a8-5c3f4e00cfc3
X-WR-CALDESC:DKS Partners In Education is hosting a BINGO benefiting the 4t
 h grade Mackinac Island field trip transportation costs. \nDoors open at 4
 :30pm at the Moose Lodge for viewing silent auction/raffle items. \nGames 
 start at 6:00pm. Food and drink available for purchase. \nPrizes will tota
 l $1\,200\, play all 10 games for $20. \nQuestions? dkpie@dkschools.org
X-WR-RELCALID:605c97eff949f53fc30010f50fe2c730
X-WR-TIMEZONE:America/New_York
BEGIN:VTIMEZONE
TZID:America/New_York
BEGIN:STANDARD
TZNAME:EST
DTSTART:20231105T020000
TZOFFSETFROM:-0400
TZOFFSETTO:-0500
RDATE:20241103T020000
END:STANDARD
BEGIN:DAYLIGHT
TZNAME:EDT
DTSTART:20240310T020000
TZOFFSETFROM:-0500
TZOFFSETTO:-0400
RDATE:20250309T020000
END:DAYLIGHT
END:VTIMEZONE
BEGIN:VEVENT
UID:952dae36-d9ff-4918-86eb-6d40b6778337
DTSTAMP:20260421T185630Z
DESCRIPTION:DKS Partners In Education is hosting a BINGO benefiting the 4th
  grade Mackinac Island field trip transportation costs. \nDoors open at 4:
 30pm at the Moose Lodge for viewing silent auction/raffle items. \nGames s
 tart at 6:00pm. Food and drink available for purchase. \nPrizes will total
  $1\,200\, play all 10 games for $20. \nQuestions? dkpie@dkschools.org
DTSTART;TZID=America/New_York:20240313T163000
DTEND;TZID=America/New_York:20240313T200000
LOCATION:5420 Mooselodge Dr\, Delton\, MI 49046 US
SUMMARY:BINGO- Partners in Education
END:VEVENT
END:VCALENDAR
