BEGIN:VCALENDAR
VERSION:2.0
PRODID:-//revitalizedelton.org//NONSGML kigkonsult.se iCalcreator 2.30.10//
CALSCALE:GREGORIAN
METHOD:PUBLISH
UID:f1527355-2a77-4a72-9491-d353c42671c6
X-WR-CALDESC:Park Place Design & Rooted Heart Design are hosting a Flora Lu
 minary Workshop \n\n-Combine florals\, laces & handmade papers into spring
  candle holders!- \nCost is $30\,00 to make 2 sizes. Includes all supplies
 \, sips & light bites \n\nRegister: \nVenmo: @lee-burdick-3
X-WR-RELCALID:7346f18dd0036c4ddbea59b7b7901dbc
X-WR-TIMEZONE:America/New_York
BEGIN:VTIMEZONE
TZID:America/New_York
BEGIN:STANDARD
TZNAME:EST
DTSTART:20231105T020000
TZOFFSETFROM:-0400
TZOFFSETTO:-0500
RDATE:20241103T020000
END:STANDARD
BEGIN:DAYLIGHT
TZNAME:EDT
DTSTART:20240310T020000
TZOFFSETFROM:-0500
TZOFFSETTO:-0400
RDATE:20250309T020000
END:DAYLIGHT
END:VTIMEZONE
BEGIN:VEVENT
UID:5f1f93f6-fb09-4303-b5b9-ccbd26664638
DTSTAMP:20260421T185446Z
DESCRIPTION:Park Place Design & Rooted Heart Design are hosting a Flora Lum
 inary Workshop \n\n-Combine florals\, laces & handmade papers into spring 
 candle holders!- \nCost is $30\,00 to make 2 sizes. Includes all supplies\
 , sips & light bites \n\nRegister: \nVenmo: @lee-burdick-3
DTSTART;TZID=America/New_York:20240316T120000
DTEND;TZID=America/New_York:20240316T140000
LOCATION:10120 M 43 Highway \, Delton\, MI 49046 US
SUMMARY:Flora Luminary Workshop
END:VEVENT
END:VCALENDAR
