BEGIN:VCALENDAR
VERSION:2.0
PRODID:-//revitalizedelton.org//NONSGML kigkonsult.se iCalcreator 2.30.10//
CALSCALE:GREGORIAN
METHOD:PUBLISH
UID:b2ffd941-7e29-4149-bb12-a33506251467
X-WR-CALDESC:HollyAnn who is our representative from Tracy Cross & Associat
 es for the Feasibility Study will be in town on Thursday! She will be avai
 lable to engage with the public at the Library to answer any questions reg
 arding the feasibility study\, and to ask residents for their opinions reg
 arding what people want to see in Delton namely for housing needs. Hope to
  see you there!
X-WR-RELCALID:7f8ac67a0a388cd2c8739f85d69fed1c
X-WR-TIMEZONE:America/New_York
BEGIN:VTIMEZONE
TZID:America/New_York
BEGIN:STANDARD
TZNAME:EST
DTSTART:20231105T020000
TZOFFSETFROM:-0400
TZOFFSETTO:-0500
RDATE:20241103T020000
END:STANDARD
BEGIN:DAYLIGHT
TZNAME:EDT
DTSTART:20240310T020000
TZOFFSETFROM:-0500
TZOFFSETTO:-0400
RDATE:20250309T020000
END:DAYLIGHT
END:VTIMEZONE
BEGIN:VEVENT
UID:c2d3ec09-f91e-41f6-b985-1fa8378a3a1e
DTSTAMP:20260421T185446Z
DESCRIPTION:HollyAnn who is our representative from Tracy Cross & Associate
 s for the Feasibility Study will be in town on Thursday! She will be avail
 able to engage with the public at the Library to answer any questions rega
 rding the feasibility study\, and to ask residents for their opinions rega
 rding what people want to see in Delton namely for housing needs. Hope to 
 see you there!
DTSTART;TZID=America/New_York:20240321T160000
DTEND;TZID=America/New_York:20240321T170000
LOCATION:330 N Grove St\, Delton\, MI 49046 US
SUMMARY:Feasibility Study Discussion
END:VEVENT
END:VCALENDAR
