BEGIN:VCALENDAR
VERSION:2.0
PRODID:-//revitalizedelton.org//NONSGML kigkonsult.se iCalcreator 2.30.10//
CALSCALE:GREGORIAN
METHOD:PUBLISH
UID:ebf6e673-7cee-4412-bbe9-683b819e5da2
X-WR-CALDESC:Delton Rotary Club meets weekly on Thursdays in the Library. C
 heck out their Facebook for more info \nhttps://www.facebook.com/DeltonMIR
 otary/
X-WR-RELCALID:f5a0694c224ccebe416f235989e04210
X-WR-TIMEZONE:America/New_York
BEGIN:VTIMEZONE
TZID:America/New_York
BEGIN:STANDARD
TZNAME:EST
DTSTART:20231105T020000
TZOFFSETFROM:-0400
TZOFFSETTO:-0500
RDATE:20241103T020000
END:STANDARD
BEGIN:DAYLIGHT
TZNAME:EDT
DTSTART:20240310T020000
TZOFFSETFROM:-0500
TZOFFSETTO:-0400
RDATE:20250309T020000
END:DAYLIGHT
END:VTIMEZONE
BEGIN:VEVENT
UID:3f697443-0b3f-4b56-b451-1469f98e796d
DTSTAMP:20260421T190052Z
DESCRIPTION:Delton Rotary Club meets weekly on Thursdays in the Library. Ch
 eck out their Facebook for more info \nhttps://www.facebook.com/DeltonMIRo
 tary/
DTSTART;TZID=America/New_York:20240328T080000
DTEND;TZID=America/New_York:20240328T090000
LOCATION:330 N Grove St \, Delton\, MI 49046 US
SUMMARY:Rotary Club Meeting
END:VEVENT
END:VCALENDAR
