BEGIN:VCALENDAR
VERSION:2.0
PRODID:-//revitalizedelton.org//NONSGML kigkonsult.se iCalcreator 2.30.10//
CALSCALE:GREGORIAN
METHOD:PUBLISH
UID:63b6efe4-21ce-4d62-a746-c53b8f074750
X-WR-CALDESC:For more information: https://www.orangevilletownship.org
X-WR-RELCALID:b6432dfee1302750ad455d4542c1295c
X-WR-TIMEZONE:America/New_York
BEGIN:VTIMEZONE
TZID:America/New_York
BEGIN:STANDARD
TZNAME:EST
DTSTART:20231105T020000
TZOFFSETFROM:-0400
TZOFFSETTO:-0500
RDATE:20241103T020000
END:STANDARD
BEGIN:DAYLIGHT
TZNAME:EDT
DTSTART:20240310T020000
TZOFFSETFROM:-0500
TZOFFSETTO:-0400
RDATE:20250309T020000
END:DAYLIGHT
END:VTIMEZONE
BEGIN:VEVENT
UID:102ee125-0df3-473d-9817-73b26d2aff3c
DTSTAMP:20260421T173701Z
DESCRIPTION:For more information: https://www.orangevilletownship.org
DTSTART;TZID=America/New_York:20240402T190000
DTEND;TZID=America/New_York:20240402T200000
LOCATION:7350 Lindsey Rd\, Plainwell\, MI 49080 US
SUMMARY:Orangeville Township Monthly Meeting
END:VEVENT
END:VCALENDAR
