BEGIN:VCALENDAR
VERSION:2.0
PRODID:-//revitalizedelton.org//NONSGML kigkonsult.se iCalcreator 2.30.10//
CALSCALE:GREGORIAN
METHOD:PUBLISH
UID:dde6001a-24bb-4074-801d-dd051d530c7d
X-WR-CALDESC:http://prairievilletwp-mi.org
X-WR-RELCALID:ec2d9f1428eaafcfaab56d03b3608dc8
X-WR-TIMEZONE:America/New_York
BEGIN:VTIMEZONE
TZID:America/New_York
BEGIN:STANDARD
TZNAME:EST
DTSTART:20231105T020000
TZOFFSETFROM:-0400
TZOFFSETTO:-0500
RDATE:20241103T020000
END:STANDARD
BEGIN:DAYLIGHT
TZNAME:EDT
DTSTART:20240310T020000
TZOFFSETFROM:-0500
TZOFFSETTO:-0400
RDATE:20250309T020000
END:DAYLIGHT
END:VTIMEZONE
BEGIN:VEVENT
UID:78ef795e-a749-4e37-9a7e-1587d5256d5f
DTSTAMP:20260421T173338Z
DESCRIPTION:http://prairievilletwp-mi.org
DTSTART;TZID=America/New_York:20240411T190000
DTEND;TZID=America/New_York:20240411T200000
LOCATION:10115 S Norris Rd\, Delton\, MI 49046 US
SUMMARY:Prairieville Township Planning Commission Meeting
END:VEVENT
END:VCALENDAR
