BEGIN:VCALENDAR
VERSION:2.0
PRODID:-//revitalizedelton.org//NONSGML kigkonsult.se iCalcreator 2.30.10//
CALSCALE:GREGORIAN
METHOD:PUBLISH
UID:e874c299-66ed-48b6-8afe-429cc29d927e
X-WR-CALDESC:NEW FREE EVENT: Barry Indoor Market \nlocal farmers & artisans
  \n\nJoin us and support over 25 local farms & artisans  \nBarry Community
  Enrichment Center \nSponsored by: Corewell Health\, Blue Zones\, and Barr
 y Community Foundation
X-WR-RELCALID:effab85c8f793cd43d202f1b65c3575e
X-WR-TIMEZONE:America/New_York
BEGIN:VTIMEZONE
TZID:America/New_York
BEGIN:STANDARD
TZNAME:EST
DTSTART:20231105T020000
TZOFFSETFROM:-0400
TZOFFSETTO:-0500
RDATE:20241103T020000
END:STANDARD
BEGIN:DAYLIGHT
TZNAME:EDT
DTSTART:20240310T020000
TZOFFSETFROM:-0500
TZOFFSETTO:-0400
RDATE:20250309T020000
END:DAYLIGHT
END:VTIMEZONE
BEGIN:VEVENT
UID:28bfb3e8-1e90-4dae-9556-da2ea7b68336
DTSTAMP:20260421T171004Z
DESCRIPTION:NEW FREE EVENT: Barry Indoor Market \nlocal farmers & artisans 
 \n\nJoin us and support over 25 local farms & artisans  \nBarry Community 
 Enrichment Center \nSponsored by: Corewell Health\, Blue Zones\, and Barry
  Community Foundation
DTSTART;TZID=America/New_York:20240413T100000
DTEND;TZID=America/New_York:20240413T140000
LOCATION:231 S Broadway\, Hastings\, MI 49058 US
SUMMARY:Barry Indoor Market
END:VEVENT
END:VCALENDAR
