BEGIN:VCALENDAR
VERSION:2.0
PRODID:-//revitalizedelton.org//NONSGML kigkonsult.se iCalcreator 2.30.10//
CALSCALE:GREGORIAN
METHOD:PUBLISH
UID:dee50996-4a42-4185-b643-b70c1d790eb0
X-WR-CALDESC:School Board Meetings take place in the Elementary Library\n\n
 https://www.dkschools.org/page/board-of-education-meetings
X-WR-RELCALID:7230923b4331d28116f9908bd621321e
X-WR-TIMEZONE:America/New_York
BEGIN:VTIMEZONE
TZID:America/New_York
BEGIN:STANDARD
TZNAME:EST
DTSTART:20231105T020000
TZOFFSETFROM:-0400
TZOFFSETTO:-0500
RDATE:20241103T020000
END:STANDARD
BEGIN:DAYLIGHT
TZNAME:EDT
DTSTART:20240310T020000
TZOFFSETFROM:-0500
TZOFFSETTO:-0400
RDATE:20250309T020000
END:DAYLIGHT
END:VTIMEZONE
BEGIN:VEVENT
UID:95ad53d6-f6f6-4b31-83da-463d620af6ad
DTSTAMP:20260421T171243Z
DESCRIPTION:School Board Meetings take place in the Elementary Library\n\nh
 ttps://www.dkschools.org/page/board-of-education-meetings
DTSTART;TZID=America/New_York:20240416T200000
DTEND;TZID=America/New_York:20240416T210000
LOCATION:327 N Grove St\, Delton\, MI 49046 US
SUMMARY:Delton Kellogg School Board Meeting
END:VEVENT
END:VCALENDAR
