BEGIN:VCALENDAR
VERSION:2.0
PRODID:-//revitalizedelton.org//NONSGML kigkonsult.se iCalcreator 2.30.10//
CALSCALE:GREGORIAN
METHOD:PUBLISH
UID:959ab62e-c681-4aa4-b451-09014af53c45
X-WR-CALDESC:http://prairievilletwp-mi.org
X-WR-RELCALID:f2ef21d1daa9d9fb3649966c908e20e5
X-WR-TIMEZONE:America/New_York
BEGIN:VTIMEZONE
TZID:America/New_York
BEGIN:STANDARD
TZNAME:EST
DTSTART:20231105T020000
TZOFFSETFROM:-0400
TZOFFSETTO:-0500
RDATE:20241103T020000
RDATE:20251102T020000
END:STANDARD
BEGIN:DAYLIGHT
TZNAME:EDT
DTSTART:20240310T020000
TZOFFSETFROM:-0500
TZOFFSETTO:-0400
RDATE:20250309T020000
END:DAYLIGHT
END:VTIMEZONE
BEGIN:VEVENT
UID:efe249f0-0285-4fa3-a56f-12fbad41168e
DTSTAMP:20260421T160317Z
DESCRIPTION:http://prairievilletwp-mi.org
DTSTART;TZID=America/New_York:20240509T190000
DTEND;TZID=America/New_York:20240509T200000
LOCATION:10115 S Norris Rd\, Delton\, MI 49046 US
SUMMARY:Prairieville Township Planning Commission Meeting
END:VEVENT
END:VCALENDAR
