BEGIN:VCALENDAR
VERSION:2.0
PRODID:-//revitalizedelton.org//NONSGML kigkonsult.se iCalcreator 2.30.10//
CALSCALE:GREGORIAN
METHOD:PUBLISH
UID:04a2d2be-b7b8-4832-a7ae-02c985cbb78f
X-WR-CALDESC:The annual Delton Kellogg Alumni Potluck and gather is always 
 the third Saturday in May at Faith United Methodist Church on M43. I hope 
 you can arrange to attend and visit with classmates and friends. \nThis ga
 thering is for anyone who attended Delton Schools at any time in any year\
 , any grade\, even if you moved away or dropped out. We welcome staff and 
 employees to attend as well. \nIf you know poeple who fit these categories
 \, please pass on the date\, and time.
X-WR-RELCALID:9a72a0d1d2468218b323ce709f6f7c66
X-WR-TIMEZONE:America/New_York
BEGIN:VTIMEZONE
TZID:America/New_York
BEGIN:STANDARD
TZNAME:EST
DTSTART:20231105T020000
TZOFFSETFROM:-0400
TZOFFSETTO:-0500
RDATE:20241103T020000
RDATE:20251102T020000
END:STANDARD
BEGIN:DAYLIGHT
TZNAME:EDT
DTSTART:20240310T020000
TZOFFSETFROM:-0500
TZOFFSETTO:-0400
RDATE:20250309T020000
END:DAYLIGHT
END:VTIMEZONE
BEGIN:VEVENT
UID:2d9ded13-2396-4de7-98c5-43b6b6ac4bf4
DTSTAMP:20260421T153644Z
DESCRIPTION:The annual Delton Kellogg Alumni Potluck and gather is always t
 he third Saturday in May at Faith United Methodist Church on M43. I hope y
 ou can arrange to attend and visit with classmates and friends. \nThis gat
 hering is for anyone who attended Delton Schools at any time in any year\,
  any grade\, even if you moved away or dropped out. We welcome staff and e
 mployees to attend as well. \nIf you know poeple who fit these categories\
 , please pass on the date\, and time.
DTSTART;TZID=America/New_York:20240518T170000
DTEND;TZID=America/New_York:20240518T200000
LOCATION:503 S Grove St\, Delton\, MI 49046 US
SUMMARY:Annual Delton Kellogg Alumni Potluck
END:VEVENT
END:VCALENDAR
