BEGIN:VCALENDAR
VERSION:2.0
PRODID:-//revitalizedelton.org//NONSGML kigkonsult.se iCalcreator 2.30.10//
CALSCALE:GREGORIAN
METHOD:PUBLISH
UID:16da9f94-d415-4fe9-ae7c-bc374033af6e
X-WR-CALDESC:The Hope Township Monthly Meeting is at the Hope Township Hall
  \n\nFor more information: https://www.hopetwp.com\n\n
X-WR-RELCALID:711ba247862023264daabd35977358f2
X-WR-TIMEZONE:America/New_York
BEGIN:VTIMEZONE
TZID:America/New_York
BEGIN:STANDARD
TZNAME:EST
DTSTART:20231105T020000
TZOFFSETFROM:-0400
TZOFFSETTO:-0500
RDATE:20241103T020000
RDATE:20251102T020000
END:STANDARD
BEGIN:DAYLIGHT
TZNAME:EDT
DTSTART:20240310T020000
TZOFFSETFROM:-0500
TZOFFSETTO:-0400
RDATE:20250309T020000
END:DAYLIGHT
END:VTIMEZONE
BEGIN:VEVENT
UID:5c79c914-2e94-4569-95ec-38e846273f10
DTSTAMP:20260421T121003Z
DESCRIPTION:The Hope Township Monthly Meeting is at the Hope Township Hall 
 \n\nFor more information: https://www.hopetwp.com\n\n
DTSTART;TZID=America/New_York:20240708T183000
DTEND;TZID=America/New_York:20240708T193000
LOCATION:5463 M-43 HWY\, Hastings\, MI 49058 US
SUMMARY:Hope Township Monthly Meeting
END:VEVENT
END:VCALENDAR
