BEGIN:VCALENDAR
VERSION:2.0
PRODID:-//revitalizedelton.org//NONSGML kigkonsult.se iCalcreator 2.30.10//
CALSCALE:GREGORIAN
METHOD:PUBLISH
UID:dd0f98b7-215f-4cb2-be75-0c0402cc1d38
X-WR-CALDESC:Barry Township: 10300 M-43 HWY \nHope Township: 5463 M-43 HWY 
 \nOrangeville Township: 7350 Lindsey Rd\nPrairieville Township: 10115 S No
 rris Rd\n\nTo check what is on your local ballot visit: https://mvic.sos.s
 tate.mi.us/PublicBallot/Index\nFor early voting information: visit your lo
 cal township website \nVoter registration in MI: https://www.michigan.gov/
 sos/elections/voting/register-to-vote
X-WR-RELCALID:6e12b0b7464e0a86a041f6c30cf6203f
X-WR-TIMEZONE:America/New_York
BEGIN:VTIMEZONE
TZID:America/New_York
BEGIN:STANDARD
TZNAME:EST
DTSTART:20231105T020000
TZOFFSETFROM:-0400
TZOFFSETTO:-0500
RDATE:20241103T020000
RDATE:20251102T020000
END:STANDARD
BEGIN:DAYLIGHT
TZNAME:EDT
DTSTART:20240310T020000
TZOFFSETFROM:-0500
TZOFFSETTO:-0400
RDATE:20250309T020000
END:DAYLIGHT
END:VTIMEZONE
BEGIN:VEVENT
UID:0a25ffa8-aeb0-40d3-96c2-8287da575335
DTSTAMP:20260421T103311Z
DESCRIPTION:Barry Township: 10300 M-43 HWY \nHope Township: 5463 M-43 HWY 
 \nOrangeville Township: 7350 Lindsey Rd\nPrairieville Township: 10115 S No
 rris Rd\n\nTo check what is on your local ballot visit: https://mvic.sos.s
 tate.mi.us/PublicBallot/Index\nFor early voting information: visit your lo
 cal township website \nVoter registration in MI: https://www.michigan.gov/
 sos/elections/voting/register-to-vote
DTSTART;TZID=America/New_York:20240806T070000
DTEND;TZID=America/New_York:20240806T200000
LOCATION:Local Township Halls
SUMMARY:Primary Election
END:VEVENT
END:VCALENDAR
