BEGIN:VCALENDAR
VERSION:2.0
PRODID:-//revitalizedelton.org//NONSGML kigkonsult.se iCalcreator 2.30.10//
CALSCALE:GREGORIAN
METHOD:PUBLISH
UID:0786e629-ad8b-4ee1-9068-c52ce0035c35
X-WR-CALDESC:
X-WR-RELCALID:b11af09954eaf9b9fce480b45d65dae1
X-WR-TIMEZONE:America/New_York
BEGIN:VTIMEZONE
TZID:America/New_York
BEGIN:STANDARD
TZNAME:EST
DTSTART:20231105T020000
TZOFFSETFROM:-0400
TZOFFSETTO:-0500
RDATE:20241103T020000
RDATE:20251102T020000
END:STANDARD
BEGIN:DAYLIGHT
TZNAME:EDT
DTSTART:20240310T020000
TZOFFSETFROM:-0500
TZOFFSETTO:-0400
RDATE:20250309T020000
END:DAYLIGHT
END:VTIMEZONE
BEGIN:VEVENT
UID:07708615-0df7-48ab-a5eb-33427f994c8b
DTSTAMP:20260421T102654Z
DESCRIPTION:
DTSTART;TZID=America/New_York:20240809T060000
DTEND;TZID=America/New_York:20240811T060001
LOCATION:Delton\, MI
SUMMARY:Delton Founders Festival
END:VEVENT
END:VCALENDAR
