BEGIN:VCALENDAR
VERSION:2.0
PRODID:-//revitalizedelton.org//NONSGML kigkonsult.se iCalcreator 2.30.10//
CALSCALE:GREGORIAN
METHOD:PUBLISH
UID:96a1c88c-40d9-4028-a148-6cec2cba539b
X-WR-CALDESC:Enjoy a delicious breakfast and support The Shack! Free will o
 ffering and/or a new package of underwear.
X-WR-RELCALID:253fa1343d60753ce9f48a854774f57d
X-WR-TIMEZONE:America/New_York
BEGIN:VTIMEZONE
TZID:America/New_York
BEGIN:STANDARD
TZNAME:EST
DTSTART:20231105T020000
TZOFFSETFROM:-0400
TZOFFSETTO:-0500
RDATE:20241103T020000
RDATE:20251102T020000
END:STANDARD
BEGIN:DAYLIGHT
TZNAME:EDT
DTSTART:20240310T020000
TZOFFSETFROM:-0500
TZOFFSETTO:-0400
RDATE:20250309T020000
RDATE:20260308T020000
END:DAYLIGHT
END:VTIMEZONE
BEGIN:VEVENT
UID:376b9d93-d5a5-45d4-bb0d-8bcd71f4e76e
DTSTAMP:20260421T081933Z
DESCRIPTION:Enjoy a delicious breakfast and support The Shack! Free will of
 fering and/or a new package of underwear.
DTSTART;TZID=America/New_York:20240914T083000
DTEND;TZID=America/New_York:20240914T110000
LOCATION:5420 Moose Ldge Dr\, Delton\, MI 49046 US
SUMMARY:Shack Breakfast
END:VEVENT
END:VCALENDAR
