BEGIN:VCALENDAR
VERSION:2.0
PRODID:-//revitalizedelton.org//NONSGML kigkonsult.se iCalcreator 2.30.10//
CALSCALE:GREGORIAN
METHOD:PUBLISH
UID:f5d5d7e5-bd1d-47ce-98da-fd9789c278a2
X-WR-CALDESC:
X-WR-RELCALID:a3a43170acc9aa6d4849e0385d089ab8
X-WR-TIMEZONE:America/New_York
BEGIN:VTIMEZONE
TZID:America/New_York
BEGIN:STANDARD
TZNAME:EST
DTSTART:20231105T020000
TZOFFSETFROM:-0400
TZOFFSETTO:-0500
RDATE:20241103T020000
RDATE:20251102T020000
END:STANDARD
BEGIN:DAYLIGHT
TZNAME:EDT
DTSTART:20240310T020000
TZOFFSETFROM:-0500
TZOFFSETTO:-0400
RDATE:20250309T020000
RDATE:20260308T020000
END:DAYLIGHT
END:VTIMEZONE
BEGIN:VEVENT
UID:efde8200-a06c-4990-b399-cfa24effc4a5
DTSTAMP:20260423T090812Z
DESCRIPTION:
DTSTART;TZID=America/New_York:20240916T183000
DTEND;TZID=America/New_York:20240916T193000
LOCATION:327 North Grove Street\, Delton\, MI 49046 US
SUMMARY:Cardio Drumming Class
END:VEVENT
END:VCALENDAR
