BEGIN:VCALENDAR
VERSION:2.0
PRODID:-//revitalizedelton.org//NONSGML kigkonsult.se iCalcreator 2.30.10//
CALSCALE:GREGORIAN
METHOD:PUBLISH
UID:3ce21064-312d-4a75-8648-48fe56b45835
X-WR-CALDESC:
X-WR-RELCALID:dbda4c9ef59bf17613945983d601befd
X-WR-TIMEZONE:America/New_York
BEGIN:VTIMEZONE
TZID:America/New_York
BEGIN:STANDARD
TZNAME:EST
DTSTART:20231105T020000
TZOFFSETFROM:-0400
TZOFFSETTO:-0500
RDATE:20241103T020000
RDATE:20251102T020000
END:STANDARD
BEGIN:DAYLIGHT
TZNAME:EDT
DTSTART:20240310T020000
TZOFFSETFROM:-0500
TZOFFSETTO:-0400
RDATE:20250309T020000
RDATE:20260308T020000
END:DAYLIGHT
END:VTIMEZONE
BEGIN:VEVENT
UID:5e468c37-a350-4c54-8169-4a9a0018149a
DTSTAMP:20260421T081334Z
DESCRIPTION:
DTSTART;TZID=America/New_York:20240918T183000
DTEND;TZID=America/New_York:20240918T193000
LOCATION:327 North Grove Street\, Delton\, MI 49046 US
SUMMARY:Cardio Drumming Class (Copy)
END:VEVENT
END:VCALENDAR
