BEGIN:VCALENDAR
VERSION:2.0
PRODID:-//revitalizedelton.org//NONSGML kigkonsult.se iCalcreator 2.30.10//
CALSCALE:GREGORIAN
METHOD:PUBLISH
UID:597c0e03-dcdd-49c3-ba85-d92b914f760d
X-WR-CALDESC:
X-WR-RELCALID:714b26dd5c8e776d23feccd79e839fda
X-WR-TIMEZONE:America/New_York
BEGIN:VTIMEZONE
TZID:America/New_York
BEGIN:STANDARD
TZNAME:EST
DTSTART:20231105T020000
TZOFFSETFROM:-0400
TZOFFSETTO:-0500
RDATE:20241103T020000
RDATE:20251102T020000
END:STANDARD
BEGIN:DAYLIGHT
TZNAME:EDT
DTSTART:20240310T020000
TZOFFSETFROM:-0500
TZOFFSETTO:-0400
RDATE:20250309T020000
RDATE:20260308T020000
END:DAYLIGHT
END:VTIMEZONE
BEGIN:VEVENT
UID:f3035a57-3b4c-4383-ae65-dd30541bb66d
DTSTAMP:20260421T082709Z
DESCRIPTION:
DTSTART;TZID=America/New_York:20240928T180000
DTEND;TZID=America/New_York:20240928T220000
LOCATION:10353 Stoney Point Dr\, Delton\, MI 49046 US
SUMMARY:Casino Night Fundraiser
END:VEVENT
END:VCALENDAR
