BEGIN:VCALENDAR
VERSION:2.0
PRODID:-//revitalizedelton.org//NONSGML kigkonsult.se iCalcreator 2.30.10//
CALSCALE:GREGORIAN
METHOD:PUBLISH
UID:e98f6562-6e1c-4a88-befc-0867bbe1db53
X-WR-CALDESC:
X-WR-RELCALID:23037d7774192642b8f96384a75b80fe
X-WR-TIMEZONE:America/New_York
BEGIN:VTIMEZONE
TZID:America/New_York
BEGIN:STANDARD
TZNAME:EST
DTSTART:20231105T020000
TZOFFSETFROM:-0400
TZOFFSETTO:-0500
RDATE:20241103T020000
RDATE:20251102T020000
END:STANDARD
BEGIN:DAYLIGHT
TZNAME:EDT
DTSTART:20240310T020000
TZOFFSETFROM:-0500
TZOFFSETTO:-0400
RDATE:20250309T020000
RDATE:20260308T020000
END:DAYLIGHT
END:VTIMEZONE
BEGIN:VEVENT
UID:bec5caba-0f8a-4fdb-b7d0-c18002dccae6
DTSTAMP:20260421T081459Z
DESCRIPTION:
DTSTART;TZID=America/New_York:20240928T100000
DTEND;TZID=America/New_York:20240928T180000
LOCATION:10353 Stoney Point Dr\, Delton\, MI 49046 US
SUMMARY:Delton Community Auction
END:VEVENT
END:VCALENDAR
