BEGIN:VCALENDAR
VERSION:2.0
PRODID:-//revitalizedelton.org//NONSGML kigkonsult.se iCalcreator 2.30.10//
CALSCALE:GREGORIAN
METHOD:PUBLISH
UID:2e060832-5f2f-4d47-9464-a8319f99a185
X-WR-CALDESC:
X-WR-RELCALID:4978047eb2cdd680476aee4bfa3835e5
X-WR-TIMEZONE:America/New_York
BEGIN:VTIMEZONE
TZID:America/New_York
BEGIN:STANDARD
TZNAME:EST
DTSTART:20231105T020000
TZOFFSETFROM:-0400
TZOFFSETTO:-0500
RDATE:20241103T020000
RDATE:20251102T020000
END:STANDARD
BEGIN:DAYLIGHT
TZNAME:EDT
DTSTART:20240310T020000
TZOFFSETFROM:-0500
TZOFFSETTO:-0400
RDATE:20250309T020000
RDATE:20260308T020000
END:DAYLIGHT
END:VTIMEZONE
BEGIN:VEVENT
UID:acac3311-1974-47cf-a079-6a564e8c6a66
DTSTAMP:20260423T090811Z
DESCRIPTION:
DTSTART;TZID=America/New_York:20240929T130000
DTEND;TZID=America/New_York:20240929T150000
LOCATION:Delton\, MI
SUMMARY:Mental Health Walk
END:VEVENT
END:VCALENDAR
