BEGIN:VCALENDAR
VERSION:2.0
PRODID:-//revitalizedelton.org//NONSGML kigkonsult.se iCalcreator 2.30.10//
CALSCALE:GREGORIAN
METHOD:PUBLISH
UID:a7c4c130-2975-4887-ab15-7be241281b84
X-WR-CALDESC:Join us in the upstairs multi-purpose room in the new elementa
 ry school to discuss things we want to see in the future of Delton Schools
  and give input on the usage of the remaining bond funds.
X-WR-RELCALID:f896975490641f1e44fc8dec2ba29722
X-WR-TIMEZONE:America/New_York
BEGIN:VTIMEZONE
TZID:America/New_York
BEGIN:STANDARD
TZNAME:EST
DTSTART:20231105T020000
TZOFFSETFROM:-0400
TZOFFSETTO:-0500
RDATE:20241103T020000
RDATE:20251102T020000
END:STANDARD
BEGIN:DAYLIGHT
TZNAME:EDT
DTSTART:20240310T020000
TZOFFSETFROM:-0500
TZOFFSETTO:-0400
RDATE:20250309T020000
RDATE:20260308T020000
END:DAYLIGHT
END:VTIMEZONE
BEGIN:VEVENT
UID:f985ddc5-2aa2-415d-8f68-3f3a213750f8
DTSTAMP:20260421T063329Z
DESCRIPTION:Join us in the upstairs multi-purpose room in the new elementar
 y school to discuss things we want to see in the future of Delton Schools 
 and give input on the usage of the remaining bond funds.
DTSTART;TZID=America/New_York:20241021T180000
DTEND;TZID=America/New_York:20241021T193000
LOCATION:327 N Grove St\, Delton\, MI 49046 US
SUMMARY:Delton Schools Forum (Copy)
END:VEVENT
END:VCALENDAR
