BEGIN:VCALENDAR
VERSION:2.0
PRODID:-//revitalizedelton.org//NONSGML kigkonsult.se iCalcreator 2.30.10//
CALSCALE:GREGORIAN
METHOD:PUBLISH
UID:68fae493-b3f8-402e-b7d5-5e6d512b49c4
X-WR-CALDESC:Barry Township: 10300 M-43 HWY \nHope Township: 5463 M-43 HWY 
 \nOrangeville Township: 7350 Lindsey Rd\nPrairieville Township: 10115 S No
 rris Rd\n\nTo check what is on your local ballot visit: https://mvic.sos.s
 tate.mi.us/PublicBallot/Index\nFor early voting information: visit your lo
 cal township website \nVoter registration in MI: https://www.michigan.gov/
 sos/elections/voting/register-to-vote
X-WR-RELCALID:63795a565e9b5b45b927545f8d32dfc8
X-WR-TIMEZONE:America/New_York
BEGIN:VTIMEZONE
TZID:America/New_York
BEGIN:STANDARD
TZNAME:EST
DTSTART:20241103T020000
TZOFFSETFROM:-0400
TZOFFSETTO:-0500
RDATE:20251102T020000
END:STANDARD
BEGIN:DAYLIGHT
TZNAME:EDT
DTSTART:20240310T020000
TZOFFSETFROM:-0500
TZOFFSETTO:-0400
RDATE:20250309T020000
RDATE:20260308T020000
END:DAYLIGHT
END:VTIMEZONE
BEGIN:VEVENT
UID:a28da91f-e0f0-4763-9610-b5743dde9483
DTSTAMP:20260421T044401Z
DESCRIPTION:Barry Township: 10300 M-43 HWY \nHope Township: 5463 M-43 HWY 
 \nOrangeville Township: 7350 Lindsey Rd\nPrairieville Township: 10115 S No
 rris Rd\n\nTo check what is on your local ballot visit: https://mvic.sos.s
 tate.mi.us/PublicBallot/Index\nFor early voting information: visit your lo
 cal township website \nVoter registration in MI: https://www.michigan.gov/
 sos/elections/voting/register-to-vote
DTSTART;TZID=America/New_York:20241105T070000
DTEND;TZID=America/New_York:20241105T200000
LOCATION:Local Township Halls
SUMMARY:General Election
END:VEVENT
END:VCALENDAR
