BEGIN:VCALENDAR
VERSION:2.0
PRODID:-//revitalizedelton.org//NONSGML kigkonsult.se iCalcreator 2.30.10//
CALSCALE:GREGORIAN
METHOD:PUBLISH
UID:2c2e79ba-6ad6-4aee-8b1c-3b0bca3be8ba
X-WR-CALDESC:School Board Meetings take place in the Elementary Library\n\n
 https://www.dkschools.org/page/board-of-education-meetings
X-WR-RELCALID:b25d94132ed506197a2678c90ab244fc
X-WR-TIMEZONE:America/New_York
BEGIN:VTIMEZONE
TZID:America/New_York
BEGIN:STANDARD
TZNAME:EST
DTSTART:20241103T020000
TZOFFSETFROM:-0400
TZOFFSETTO:-0500
RDATE:20251102T020000
END:STANDARD
BEGIN:DAYLIGHT
TZNAME:EDT
DTSTART:20240310T020000
TZOFFSETFROM:-0500
TZOFFSETTO:-0400
RDATE:20250309T020000
RDATE:20260308T020000
END:DAYLIGHT
END:VTIMEZONE
BEGIN:VEVENT
UID:82ffc426-f121-4afc-a47a-1b8b9d8b4ac2
DTSTAMP:20260422T055217Z
DESCRIPTION:School Board Meetings take place in the Elementary Library\n\nh
 ttps://www.dkschools.org/page/board-of-education-meetings
DTSTART;TZID=America/New_York:20250121T190000
DTEND;TZID=America/New_York:20250121T210000
LOCATION:327 N Grove St\, Delton\, MI 49046 US
SUMMARY:Delton Kellogg School Board Meeting
END:VEVENT
END:VCALENDAR
