BEGIN:VCALENDAR
VERSION:2.0
PRODID:-//revitalizedelton.org//NONSGML kigkonsult.se iCalcreator 2.30.10//
CALSCALE:GREGORIAN
METHOD:PUBLISH
UID:f8159b14-aed3-48c5-95ab-095a306f4518
X-WR-CALDESC:The Hope Township Monthly Meeting is at the Hope Township Hall
  \n\nFor more information: https://www.hopetwp.com\n\n
X-WR-RELCALID:68b49a8d9183f25b0f198bc819c94dbc
X-WR-TIMEZONE:America/New_York
BEGIN:VTIMEZONE
TZID:America/New_York
BEGIN:STANDARD
TZNAME:EST
DTSTART:20241103T020000
TZOFFSETFROM:-0400
TZOFFSETTO:-0500
RDATE:20251102T020000
END:STANDARD
BEGIN:DAYLIGHT
TZNAME:EDT
DTSTART:20240310T020000
TZOFFSETFROM:-0500
TZOFFSETTO:-0400
RDATE:20250309T020000
RDATE:20260308T020000
END:DAYLIGHT
END:VTIMEZONE
BEGIN:VEVENT
UID:80b1b5ed-5173-4262-a78c-0c892072e103
DTSTAMP:20260422T014732Z
DESCRIPTION:The Hope Township Monthly Meeting is at the Hope Township Hall 
 \n\nFor more information: https://www.hopetwp.com\n\n
DTSTART;TZID=America/New_York:20250310T183000
DTEND;TZID=America/New_York:20250310T193000
LOCATION:5463 M-43 HWY\, Hastings\, MI 49058 US
SUMMARY:Hope Township Monthly Meeting
END:VEVENT
END:VCALENDAR
