BEGIN:VCALENDAR
VERSION:2.0
PRODID:-//revitalizedelton.org//NONSGML kigkonsult.se iCalcreator 2.30.10//
CALSCALE:GREGORIAN
METHOD:PUBLISH
UID:49433791-7ab7-418e-bc83-4150565b4909
X-WR-CALDESC:http://prairievilletwp-mi.org
X-WR-RELCALID:58a6386ac67fdfee46528c1149edb250
X-WR-TIMEZONE:America/New_York
BEGIN:VTIMEZONE
TZID:America/New_York
BEGIN:STANDARD
TZNAME:EST
DTSTART:20241103T020000
TZOFFSETFROM:-0400
TZOFFSETTO:-0500
RDATE:20251102T020000
END:STANDARD
BEGIN:DAYLIGHT
TZNAME:EDT
DTSTART:20250309T020000
TZOFFSETFROM:-0500
TZOFFSETTO:-0400
RDATE:20260308T020000
END:DAYLIGHT
END:VTIMEZONE
BEGIN:VEVENT
UID:bfb923ae-515d-46e6-94a1-06119797787a
DTSTAMP:20260422T020630Z
DESCRIPTION:http://prairievilletwp-mi.org
DTSTART;TZID=America/New_York:20250313T190000
DTEND;TZID=America/New_York:20250313T200000
LOCATION:10115 S Norris Rd\, Delton\, MI 49046 US
SUMMARY:Prairieville Township Planning Commission Meeting
END:VEVENT
END:VCALENDAR
