BEGIN:VCALENDAR
VERSION:2.0
PRODID:-//revitalizedelton.org//NONSGML kigkonsult.se iCalcreator 2.30.10//
CALSCALE:GREGORIAN
METHOD:PUBLISH
UID:6c2cd627-13a0-4dd8-90db-a6a7e50a8cc9
X-WR-CALDESC:Please join us in the Delton Kellogg High School Media Center
X-WR-RELCALID:20a5fc861592ba5b4b76af094c45e39b
X-WR-TIMEZONE:America/New_York
BEGIN:VTIMEZONE
TZID:America/New_York
BEGIN:STANDARD
TZNAME:EST
DTSTART:20241103T020000
TZOFFSETFROM:-0400
TZOFFSETTO:-0500
RDATE:20251102T020000
END:STANDARD
BEGIN:DAYLIGHT
TZNAME:EDT
DTSTART:20250309T020000
TZOFFSETFROM:-0500
TZOFFSETTO:-0400
RDATE:20260308T020000
END:DAYLIGHT
END:VTIMEZONE
BEGIN:VEVENT
UID:79d7f745-167c-4b41-98b2-9a4b4b955e27
DTSTAMP:20260422T000650Z
DESCRIPTION:Please join us in the Delton Kellogg High School Media Center
DTSTART;TZID=America/New_York:20250424T183000
DTEND;TZID=America/New_York:20250424T200000
LOCATION:10425 Panther Pride Dr\, Delton\, MI 49046 US
SUMMARY:Revitalize Delton Meeting
END:VEVENT
END:VCALENDAR
