BEGIN:VCALENDAR
VERSION:2.0
PRODID:-//revitalizedelton.org//NONSGML kigkonsult.se iCalcreator 2.30.10//
CALSCALE:GREGORIAN
METHOD:PUBLISH
UID:b4ec4408-daf0-4e29-8ac5-3fd7e6e6fa09
X-WR-CALDESC:For more information: https://www.orangevilletownship.org
X-WR-RELCALID:ccc76c8a2043eb04da33121a16e26d6c
X-WR-TIMEZONE:America/New_York
BEGIN:VTIMEZONE
TZID:America/New_York
BEGIN:STANDARD
TZNAME:EST
DTSTART:20241103T020000
TZOFFSETFROM:-0400
TZOFFSETTO:-0500
RDATE:20251102T020000
RDATE:20261101T020000
END:STANDARD
BEGIN:DAYLIGHT
TZNAME:EDT
DTSTART:20250309T020000
TZOFFSETFROM:-0500
TZOFFSETTO:-0400
RDATE:20260308T020000
END:DAYLIGHT
END:VTIMEZONE
BEGIN:VEVENT
UID:e3ad676b-5762-44b2-984c-68df14d79462
DTSTAMP:20260421T224551Z
DESCRIPTION:For more information: https://www.orangevilletownship.org
DTSTART;TZID=America/New_York:20250506T190000
DTEND;TZID=America/New_York:20250506T200000
LOCATION:7350 Lindsey Rd\, Plainwell\, MI 49080 US
SUMMARY:Orangeville Township Monthly Meeting
END:VEVENT
END:VCALENDAR
