BEGIN:VCALENDAR
VERSION:2.0
PRODID:-//revitalizedelton.org//NONSGML kigkonsult.se iCalcreator 2.30.10//
CALSCALE:GREGORIAN
METHOD:PUBLISH
UID:d3aaaeff-6a65-4383-abe9-50e53cbd7a93
X-WR-CALDESC:Delton Rotary Club meets weekly on Thursdays in the Library. C
 heck out their Facebook for more info \nhttps://www.facebook.com/DeltonMIR
 otary/
X-WR-RELCALID:1599f59637ad3fc86a8ff377087b8915
X-WR-TIMEZONE:America/New_York
BEGIN:VTIMEZONE
TZID:America/New_York
BEGIN:STANDARD
TZNAME:EST
DTSTART:20241103T020000
TZOFFSETFROM:-0400
TZOFFSETTO:-0500
RDATE:20251102T020000
RDATE:20261101T020000
END:STANDARD
BEGIN:DAYLIGHT
TZNAME:EDT
DTSTART:20250309T020000
TZOFFSETFROM:-0500
TZOFFSETTO:-0400
RDATE:20260308T020000
END:DAYLIGHT
END:VTIMEZONE
BEGIN:VEVENT
UID:0c7428cb-9467-46ab-bbe1-f16540a3767a
DTSTAMP:20260421T225310Z
DESCRIPTION:Delton Rotary Club meets weekly on Thursdays in the Library. Ch
 eck out their Facebook for more info \nhttps://www.facebook.com/DeltonMIRo
 tary/
DTSTART;TZID=America/New_York:20250529T080000
DTEND;TZID=America/New_York:20250529T090000
LOCATION:330 N Grove St \, Delton\, MI 49046 US
SUMMARY:Rotary Club Meeting
END:VEVENT
END:VCALENDAR
