BEGIN:VCALENDAR
VERSION:2.0
PRODID:-//revitalizedelton.org//NONSGML kigkonsult.se iCalcreator 2.30.10//
CALSCALE:GREGORIAN
METHOD:PUBLISH
UID:cbc15284-81ac-4699-ad69-f37aa5475255
X-WR-CALDESC:For more information: https://barrytownshipmi.com\n
X-WR-RELCALID:9205d2952dc9374652f91fab9554900c
X-WR-TIMEZONE:America/New_York
BEGIN:VTIMEZONE
TZID:America/New_York
BEGIN:STANDARD
TZNAME:EST
DTSTART:20241103T020000
TZOFFSETFROM:-0400
TZOFFSETTO:-0500
RDATE:20251102T020000
RDATE:20261101T020000
END:STANDARD
BEGIN:DAYLIGHT
TZNAME:EDT
DTSTART:20250309T020000
TZOFFSETFROM:-0500
TZOFFSETTO:-0400
RDATE:20260308T020000
END:DAYLIGHT
END:VTIMEZONE
BEGIN:VEVENT
UID:d9ffd6a7-a489-4467-9c5c-b67fca60af77
DTSTAMP:20260421T205047Z
DESCRIPTION:For more information: https://barrytownshipmi.com\n
DTSTART;TZID=America/New_York:20250610T190000
DTEND;TZID=America/New_York:20250610T200000
LOCATION:11300 M-43 HWY \, Delton\, MI 49046 US
SUMMARY:Barry Township Monthly Meeting
END:VEVENT
END:VCALENDAR
