BEGIN:VCALENDAR
VERSION:2.0
PRODID:-//revitalizedelton.org//NONSGML kigkonsult.se iCalcreator 2.30.10//
CALSCALE:GREGORIAN
METHOD:PUBLISH
UID:41dda475-b263-4631-a903-ff25dc7fe12f
X-WR-CALDESC:Join us at WM Smith Park for a summer concert series. We will 
 have a beer tent and food trucks. Bring a chair. Admission is free\, donat
 ions are welcome.
X-WR-RELCALID:015a767ec5344255d5dcc20df7991688
X-WR-TIMEZONE:America/New_York
BEGIN:VTIMEZONE
TZID:America/New_York
BEGIN:STANDARD
TZNAME:EST
DTSTART:20241103T020000
TZOFFSETFROM:-0400
TZOFFSETTO:-0500
RDATE:20251102T020000
RDATE:20261101T020000
END:STANDARD
BEGIN:DAYLIGHT
TZNAME:EDT
DTSTART:20250309T020000
TZOFFSETFROM:-0500
TZOFFSETTO:-0400
RDATE:20260308T020000
END:DAYLIGHT
END:VTIMEZONE
BEGIN:VEVENT
UID:9c062e3b-415f-46b5-8f1c-54848c00faa2
DTSTAMP:20260421T205214Z
DESCRIPTION:Join us at WM Smith Park for a summer concert series. We will h
 ave a beer tent and food trucks. Bring a chair. Admission is free\, donati
 ons are welcome.
DTSTART;TZID=America/New_York:20250619T190000
DTEND;TZID=America/New_York:20250619T220000
LOCATION:155 E Orchard St\, Delton\, MI 49046 US
SUMMARY:Delton Summer Sounds Presents: All American Funk Parade
END:VEVENT
END:VCALENDAR
