BEGIN:VCALENDAR
VERSION:2.0
PRODID:-//revitalizedelton.org//NONSGML kigkonsult.se iCalcreator 2.30.10//
CALSCALE:GREGORIAN
METHOD:PUBLISH
UID:ae726daf-2c95-46f0-aabd-9d1df85866ed
X-WR-CALDESC:Join us at WM Smith Park for a summer concert series. We will 
 have a beer tent and food trucks. Bring a chair. Admission is free\, donat
 ions are welcome.
X-WR-RELCALID:d64edb5329f48b5669bffbef9ec93e68
X-WR-TIMEZONE:America/New_York
BEGIN:VTIMEZONE
TZID:America/New_York
BEGIN:STANDARD
TZNAME:EST
DTSTART:20241103T020000
TZOFFSETFROM:-0400
TZOFFSETTO:-0500
RDATE:20251102T020000
RDATE:20261101T020000
END:STANDARD
BEGIN:DAYLIGHT
TZNAME:EDT
DTSTART:20250309T020000
TZOFFSETFROM:-0500
TZOFFSETTO:-0400
RDATE:20260308T020000
END:DAYLIGHT
END:VTIMEZONE
BEGIN:VEVENT
UID:0e534de9-2558-49c7-8b68-b2a0b8810edc
DTSTAMP:20260421T185751Z
DESCRIPTION:Join us at WM Smith Park for a summer concert series. We will h
 ave a beer tent and food trucks. Bring a chair. Admission is free\, donati
 ons are welcome.
DTSTART;TZID=America/New_York:20250724T190000
DTEND;TZID=America/New_York:20250724T220000
LOCATION:155 E Orchard St\, Delton\, MI 49046 US
SUMMARY:Delton Summer Sounds Presents: Fleetwood Magic
END:VEVENT
END:VCALENDAR
