BEGIN:VCALENDAR
VERSION:2.0
PRODID:-//revitalizedelton.org//NONSGML kigkonsult.se iCalcreator 2.30.10//
CALSCALE:GREGORIAN
METHOD:PUBLISH
UID:16b011a5-63fe-4804-aeed-27363a529529
X-WR-CALDESC:Join us at WM Smith Park for a summer concert series. We will 
 have a beer tent and food trucks. Bring a chair. Admission is free\, donat
 ions are welcome.
X-WR-RELCALID:42e31c91037b3bc7ed8645f1e3ad7ac9
X-WR-TIMEZONE:America/New_York
BEGIN:VTIMEZONE
TZID:America/New_York
BEGIN:STANDARD
TZNAME:EST
DTSTART:20241103T020000
TZOFFSETFROM:-0400
TZOFFSETTO:-0500
RDATE:20251102T020000
RDATE:20261101T020000
END:STANDARD
BEGIN:DAYLIGHT
TZNAME:EDT
DTSTART:20250309T020000
TZOFFSETFROM:-0500
TZOFFSETTO:-0400
RDATE:20260308T020000
END:DAYLIGHT
END:VTIMEZONE
BEGIN:VEVENT
UID:f88d4a2c-70ec-4e7f-ad35-ca3f8691c789
DTSTAMP:20260421T171046Z
DESCRIPTION:Join us at WM Smith Park for a summer concert series. We will h
 ave a beer tent and food trucks. Bring a chair. Admission is free\, donati
 ons are welcome.
DTSTART;TZID=America/New_York:20250814T190000
DTEND;TZID=America/New_York:20250814T220000
LOCATION:155 E Orchard St\, Delton\, MI 49046 US
SUMMARY:Delton Summer Sounds Presents: OCD/C
END:VEVENT
END:VCALENDAR
