BEGIN:VCALENDAR
VERSION:2.0
PRODID:-//revitalizedelton.org//NONSGML kigkonsult.se iCalcreator 2.30.10//
CALSCALE:GREGORIAN
METHOD:PUBLISH
UID:e6947ffd-ce63-47d1-9af7-9951b374da19
X-WR-CALDESC:Join us at WM Smith Park for a summer concert series. We will 
 have a beer tent and food trucks. Bring a chair. Admission is free\, donat
 ions are welcome.
X-WR-RELCALID:71c1ca85936539629807a5263803ce10
X-WR-TIMEZONE:America/New_York
BEGIN:VTIMEZONE
TZID:America/New_York
BEGIN:STANDARD
TZNAME:EST
DTSTART:20241103T020000
TZOFFSETFROM:-0400
TZOFFSETTO:-0500
RDATE:20251102T020000
RDATE:20261101T020000
END:STANDARD
BEGIN:DAYLIGHT
TZNAME:EDT
DTSTART:20250309T020000
TZOFFSETFROM:-0500
TZOFFSETTO:-0400
RDATE:20260308T020000
END:DAYLIGHT
END:VTIMEZONE
BEGIN:VEVENT
UID:01d98018-5040-4c34-af72-e284c648de7a
DTSTAMP:20260421T171046Z
DESCRIPTION:Join us at WM Smith Park for a summer concert series. We will h
 ave a beer tent and food trucks. Bring a chair. Admission is free\, donati
 ons are welcome.
DTSTART;TZID=America/New_York:20250828T190000
DTEND;TZID=America/New_York:20250828T220000
LOCATION:155 E Orchard St\, Delton\, MI 49046 US
SUMMARY:Delton Summer Sounds Presents: Brena
END:VEVENT
END:VCALENDAR
