BEGIN:VCALENDAR
VERSION:2.0
PRODID:-//revitalizedelton.org//NONSGML kigkonsult.se iCalcreator 2.30.10//
CALSCALE:GREGORIAN
METHOD:PUBLISH
UID:60e8bf03-bb25-49d5-a5b1-2e06eda15b88
X-WR-CALDESC:Join us in the Delton-Kellogg High School LGI
X-WR-RELCALID:be658cdf3a8424b27ddf86e47fd055bd
X-WR-TIMEZONE:America/New_York
BEGIN:VTIMEZONE
TZID:America/New_York
BEGIN:STANDARD
TZNAME:EST
DTSTART:20241103T020000
TZOFFSETFROM:-0400
TZOFFSETTO:-0500
RDATE:20251102T020000
RDATE:20261101T020000
END:STANDARD
BEGIN:DAYLIGHT
TZNAME:EDT
DTSTART:20250309T020000
TZOFFSETFROM:-0500
TZOFFSETTO:-0400
RDATE:20260308T020000
RDATE:20270314T020000
END:DAYLIGHT
END:VTIMEZONE
BEGIN:VEVENT
UID:689a6017-83ed-4cdd-b3bc-faf4cadd10ab
DTSTAMP:20260421T141501Z
DESCRIPTION:Join us in the Delton-Kellogg High School LGI
DTSTART;TZID=America/New_York:20251023T183000
DTEND;TZID=America/New_York:20251023T200000
LOCATION:10425 Panther Pride Dr\, Delton\, MI 49046 US
SUMMARY:Revitalize Delton Meeting
END:VEVENT
END:VCALENDAR
