BEGIN:VCALENDAR
VERSION:2.0
PRODID:-//revitalizedelton.org//NONSGML kigkonsult.se iCalcreator 2.30.10//
CALSCALE:GREGORIAN
METHOD:PUBLISH
UID:4e9c2979-77ff-4f48-9208-bc8183893a4b
X-WR-CALDESC:For more information: https://www.orangevilletownship.org
X-WR-RELCALID:e0b167f65412e12b1034c7fde722d00a
X-WR-TIMEZONE:America/New_York
BEGIN:VTIMEZONE
TZID:America/New_York
BEGIN:STANDARD
TZNAME:EST
DTSTART:20251102T020000
TZOFFSETFROM:-0400
TZOFFSETTO:-0500
RDATE:20261101T020000
END:STANDARD
BEGIN:DAYLIGHT
TZNAME:EDT
DTSTART:20250309T020000
TZOFFSETFROM:-0500
TZOFFSETTO:-0400
RDATE:20260308T020000
RDATE:20270314T020000
END:DAYLIGHT
END:VTIMEZONE
BEGIN:VEVENT
UID:20263dc0-908c-4b5c-a19c-e8e09bf0c61a
DTSTAMP:20260421T121003Z
DESCRIPTION:For more information: https://www.orangevilletownship.org
DTSTART;TZID=America/New_York:20251104T190000
DTEND;TZID=America/New_York:20251104T200000
LOCATION:7350 Lindsey Rd\, Plainwell\, MI 49080 US
SUMMARY:Orangeville Township Monthly Meeting
END:VEVENT
END:VCALENDAR
