BEGIN:VCALENDAR
VERSION:2.0
PRODID:-//revitalizedelton.org//NONSGML kigkonsult.se iCalcreator 2.30.10//
CALSCALE:GREGORIAN
METHOD:PUBLISH
UID:df291513-c112-41b8-aa1c-94326b84dfbe
X-WR-CALDESC:
X-WR-RELCALID:6353d1dc8d012b12e2b653a02ced4dc5
X-WR-TIMEZONE:America/New_York
BEGIN:VTIMEZONE
TZID:America/New_York
BEGIN:STANDARD
TZNAME:EST
DTSTART:20251102T020000
TZOFFSETFROM:-0400
TZOFFSETTO:-0500
RDATE:20261101T020000
END:STANDARD
BEGIN:DAYLIGHT
TZNAME:EDT
DTSTART:20250309T020000
TZOFFSETFROM:-0500
TZOFFSETTO:-0400
RDATE:20260308T020000
RDATE:20270314T020000
END:DAYLIGHT
END:VTIMEZONE
BEGIN:VEVENT
UID:79a34b61-10fe-4656-bbe5-c3701b64f1c6
DTSTAMP:20260423T110129Z
DESCRIPTION:
DTSTART;TZID=America/New_York:20251213T100000
DTEND;TZID=America/New_York:20251213T153000
LOCATION:
SUMMARY:Delton Dash Hometown Christmas 5k - CANCELLED
END:VEVENT
END:VCALENDAR
