BEGIN:VCALENDAR
VERSION:2.0
PRODID:-//revitalizedelton.org//NONSGML kigkonsult.se iCalcreator 2.30.10//
CALSCALE:GREGORIAN
METHOD:PUBLISH
UID:596606c1-eecb-441f-a22e-1ec4d0ee9111
X-WR-CALDESC:The December Event is Cancelled
X-WR-RELCALID:e6c1f6fafed34d06ae9dc36978f44b08
X-WR-TIMEZONE:America/New_York
BEGIN:VTIMEZONE
TZID:America/New_York
BEGIN:STANDARD
TZNAME:EST
DTSTART:20251102T020000
TZOFFSETFROM:-0400
TZOFFSETTO:-0500
RDATE:20261101T020000
END:STANDARD
BEGIN:DAYLIGHT
TZNAME:EDT
DTSTART:20250309T020000
TZOFFSETFROM:-0500
TZOFFSETTO:-0400
RDATE:20260308T020000
RDATE:20270314T020000
END:DAYLIGHT
END:VTIMEZONE
BEGIN:VEVENT
UID:217e8794-3f16-4b9f-8b1c-a30a899c1dcc
DTSTAMP:20260423T113411Z
DESCRIPTION:The December Event is Cancelled
DTSTART;TZID=America/New_York:20251218T183000
DTEND;TZID=America/New_York:20251218T200000
LOCATION:10425 Panther Pride Dr\, Delton\, MI 49046 US
SUMMARY:CANCELEED: Revitalize Delton Meeting
END:VEVENT
END:VCALENDAR
