BEGIN:VCALENDAR
VERSION:2.0
PRODID:-//revitalizedelton.org//NONSGML kigkonsult.se iCalcreator 2.30.10//
CALSCALE:GREGORIAN
METHOD:PUBLISH
UID:6ed9d946-48c6-4492-9b9e-0b6c520442d4
X-WR-CALDESC:http://prairievilletwp-mi.org
X-WR-RELCALID:6d5efb1e518bb592a0d88f61dbe6994d
X-WR-TIMEZONE:America/New_York
BEGIN:VTIMEZONE
TZID:America/New_York
BEGIN:STANDARD
TZNAME:EST
DTSTART:20251102T020000
TZOFFSETFROM:-0400
TZOFFSETTO:-0500
RDATE:20261101T020000
END:STANDARD
BEGIN:DAYLIGHT
TZNAME:EDT
DTSTART:20250309T020000
TZOFFSETFROM:-0500
TZOFFSETTO:-0400
RDATE:20260308T020000
RDATE:20270314T020000
END:DAYLIGHT
END:VTIMEZONE
BEGIN:VEVENT
UID:a9c243aa-1ec7-40e8-8a41-f23de18d7ed1
DTSTAMP:20260421T092656Z
DESCRIPTION:http://prairievilletwp-mi.org
DTSTART;TZID=America/New_York:20260108T190000
DTEND;TZID=America/New_York:20260108T200000
LOCATION:10115 S Norris Rd\, Delton\, MI 49046 US
SUMMARY:Prairieville Township Planning Commission Meeting
END:VEVENT
END:VCALENDAR
